BEGIN:VCALENDAR
VERSION:2.0
PRODID:-//Kempner Institute - ECPv6.15.11//NONSGML v1.0//EN
CALSCALE:GREGORIAN
METHOD:PUBLISH
X-WR-CALNAME:Kempner Institute
X-ORIGINAL-URL:https://kempnerinstitute.harvard.edu
X-WR-CALDESC:Events for Kempner Institute
REFRESH-INTERVAL;VALUE=DURATION:PT1H
X-Robots-Tag:noindex
X-PUBLISHED-TTL:PT1H
BEGIN:VTIMEZONE
TZID:America/New_York
BEGIN:DAYLIGHT
TZOFFSETFROM:-0500
TZOFFSETTO:-0400
TZNAME:EDT
DTSTART:20250309T070000
END:DAYLIGHT
BEGIN:STANDARD
TZOFFSETFROM:-0400
TZOFFSETTO:-0500
TZNAME:EST
DTSTART:20251102T060000
END:STANDARD
BEGIN:DAYLIGHT
TZOFFSETFROM:-0500
TZOFFSETTO:-0400
TZNAME:EDT
DTSTART:20260308T070000
END:DAYLIGHT
BEGIN:STANDARD
TZOFFSETFROM:-0400
TZOFFSETTO:-0500
TZNAME:EST
DTSTART:20261101T060000
END:STANDARD
BEGIN:DAYLIGHT
TZOFFSETFROM:-0500
TZOFFSETTO:-0400
TZNAME:EDT
DTSTART:20270314T070000
END:DAYLIGHT
BEGIN:STANDARD
TZOFFSETFROM:-0400
TZOFFSETTO:-0500
TZNAME:EST
DTSTART:20271107T060000
END:STANDARD
END:VTIMEZONE
BEGIN:VEVENT
DTSTART;TZID=America/New_York:20260422T153000
DTEND;TZID=America/New_York:20260422T170000
DTSTAMP:20260422T061110
CREATED:20260402T154731Z
LAST-MODIFIED:20260402T154731Z
UID:10003126-1776871800-1776877200@kempnerinstitute.harvard.edu
SUMMARY:An Action Prediction Theory of the Cortico-Basal Ganglia-Thalamo-Cortical Loop
DESCRIPTION:Room: \n6.242 \n\nEvent Details: \nhttps://kempnerinstitute.harvard.edu/events/an-action-prediction-theory-of-the-cortico-basal-ganglia-thalamo-cortical-loop/
LOCATION:SEC\, 150 Western Avenue\, Allston\, MA\, United States
CATEGORIES:All-hands meeting,Kempner Community Only
END:VEVENT
END:VCALENDAR