BEGIN:VCALENDAR
VERSION:2.0
PRODID:-//Kempner Institute - ECPv6.15.11//NONSGML v1.0//EN
CALSCALE:GREGORIAN
METHOD:PUBLISH
X-WR-CALNAME:Kempner Institute
X-ORIGINAL-URL:https://kempnerinstitute.harvard.edu
X-WR-CALDESC:Events for Kempner Institute
REFRESH-INTERVAL;VALUE=DURATION:PT1H
X-Robots-Tag:noindex
X-PUBLISHED-TTL:PT1H
BEGIN:VTIMEZONE
TZID:America/New_York
BEGIN:DAYLIGHT
TZOFFSETFROM:-0500
TZOFFSETTO:-0400
TZNAME:EDT
DTSTART:20250309T070000
END:DAYLIGHT
BEGIN:STANDARD
TZOFFSETFROM:-0400
TZOFFSETTO:-0500
TZNAME:EST
DTSTART:20251102T060000
END:STANDARD
BEGIN:DAYLIGHT
TZOFFSETFROM:-0500
TZOFFSETTO:-0400
TZNAME:EDT
DTSTART:20260308T070000
END:DAYLIGHT
BEGIN:STANDARD
TZOFFSETFROM:-0400
TZOFFSETTO:-0500
TZNAME:EST
DTSTART:20261101T060000
END:STANDARD
BEGIN:DAYLIGHT
TZOFFSETFROM:-0500
TZOFFSETTO:-0400
TZNAME:EDT
DTSTART:20270314T070000
END:DAYLIGHT
BEGIN:STANDARD
TZOFFSETFROM:-0400
TZOFFSETTO:-0500
TZNAME:EST
DTSTART:20271107T060000
END:STANDARD
END:VTIMEZONE
BEGIN:VEVENT
DTSTART;TZID=America/New_York:20260420T123000
DTEND;TZID=America/New_York:20260420T133000
DTSTAMP:20260420T015858
CREATED:20250220T210846Z
LAST-MODIFIED:20251210T143807Z
UID:10001577-1776688200-1776691800@kempnerinstitute.harvard.edu
SUMMARY:Diffusion/Generative Models/OT Reading Group
DESCRIPTION:Room: \n6.242 \n\nEvent Details: \nhttps://kempnerinstitute.harvard.edu/events/diffusion-generative-models-ot-reading-group/2026-04-20/
LOCATION:SEC\, 150 Western Avenue\, Allston\, MA\, United States
END:VEVENT
END:VCALENDAR